BEGIN:VCALENDAR
VERSION:2.0
PRODID:-//Kalamazoo Literacy Council - ECPv6.15.20//NONSGML v1.0//EN
CALSCALE:GREGORIAN
METHOD:PUBLISH
X-ORIGINAL-URL:https://kalamazooliteracy.org
X-WR-CALDESC:Events for Kalamazoo Literacy Council
REFRESH-INTERVAL;VALUE=DURATION:PT1H
X-Robots-Tag:noindex
X-PUBLISHED-TTL:PT1H
BEGIN:VTIMEZONE
TZID:America/Detroit
BEGIN:DAYLIGHT
TZOFFSETFROM:-0500
TZOFFSETTO:-0400
TZNAME:EDT
DTSTART:20200308T070000
END:DAYLIGHT
BEGIN:STANDARD
TZOFFSETFROM:-0400
TZOFFSETTO:-0500
TZNAME:EST
DTSTART:20201101T060000
END:STANDARD
BEGIN:DAYLIGHT
TZOFFSETFROM:-0500
TZOFFSETTO:-0400
TZNAME:EDT
DTSTART:20210314T070000
END:DAYLIGHT
BEGIN:STANDARD
TZOFFSETFROM:-0400
TZOFFSETTO:-0500
TZNAME:EST
DTSTART:20211107T060000
END:STANDARD
BEGIN:DAYLIGHT
TZOFFSETFROM:-0500
TZOFFSETTO:-0400
TZNAME:EDT
DTSTART:20220313T070000
END:DAYLIGHT
BEGIN:STANDARD
TZOFFSETFROM:-0400
TZOFFSETTO:-0500
TZNAME:EST
DTSTART:20221106T060000
END:STANDARD
END:VTIMEZONE
BEGIN:VEVENT
DTSTART;TZID=America/Detroit:20210623T120000
DTEND;TZID=America/Detroit:20210623T133000
DTSTAMP:20260419T104502
CREATED:20210420T225217Z
LAST-MODIFIED:20210603T230702Z
UID:5977-1624449600-1624455000@kalamazooliteracy.org
SUMMARY:Health Literacy Tutor Forum
DESCRIPTION:Forum leader: Doris Ravotas\, Ph.D \nBecause health is a topic that applies to every adult learner\, having tutoring strategies that meet the health goals of learners is important. According to the Partnership for Clear Health Communication\, literacy skills are the strongest predictor of health status\, more than age\, income\, employment status\, education level or racial/ethnic group. \nThis online forum will provide strategies of how to provide instruction that imparts health and literacy skills for adult learners. In May and June\, we will discuss virtual volunteer opportunities with our Summer ESL program. We will also discuss the most recent updates on Covid-19 safety measures and the vaccine. Learn more about the KLC’s Health Literacy programs. \nEmail to sign up for the monthly forum: kjumanne-marshall@kalamazooliteracy.org
URL:https://kalamazooliteracy.org/event/health-literacy-tutor-forum-6/
LOCATION:Online\, MI\, United States
CATEGORIES:Health Literacy,Tutor Forum
ATTACH;FMTTYPE=image/png:https://kalamazooliteracy.org/wp-content/uploads/2020/03/Doris-Ravatos.png
END:VEVENT
END:VCALENDAR