BEGIN:VCALENDAR
VERSION:2.0
PRODID:-//Kalamazoo Literacy Council - ECPv6.15.20//NONSGML v1.0//EN
CALSCALE:GREGORIAN
METHOD:PUBLISH
X-WR-CALNAME:Kalamazoo Literacy Council
X-ORIGINAL-URL:https://kalamazooliteracy.org
X-WR-CALDESC:Events for Kalamazoo Literacy Council
REFRESH-INTERVAL;VALUE=DURATION:PT1H
X-Robots-Tag:noindex
X-PUBLISHED-TTL:PT1H
BEGIN:VTIMEZONE
TZID:America/Detroit
BEGIN:DAYLIGHT
TZOFFSETFROM:-0500
TZOFFSETTO:-0400
TZNAME:EDT
DTSTART:20200308T070000
END:DAYLIGHT
BEGIN:STANDARD
TZOFFSETFROM:-0400
TZOFFSETTO:-0500
TZNAME:EST
DTSTART:20201101T060000
END:STANDARD
BEGIN:DAYLIGHT
TZOFFSETFROM:-0500
TZOFFSETTO:-0400
TZNAME:EDT
DTSTART:20210314T070000
END:DAYLIGHT
BEGIN:STANDARD
TZOFFSETFROM:-0400
TZOFFSETTO:-0500
TZNAME:EST
DTSTART:20211107T060000
END:STANDARD
BEGIN:DAYLIGHT
TZOFFSETFROM:-0500
TZOFFSETTO:-0400
TZNAME:EDT
DTSTART:20220313T070000
END:DAYLIGHT
BEGIN:STANDARD
TZOFFSETFROM:-0400
TZOFFSETTO:-0500
TZNAME:EST
DTSTART:20221106T060000
END:STANDARD
END:VTIMEZONE
BEGIN:VEVENT
DTSTART;TZID=America/Detroit:20211009T080000
DTEND;TZID=America/Detroit:20211009T113000
DTSTAMP:20260419T175311
CREATED:20210928T232130Z
LAST-MODIFIED:20210928T232130Z
UID:7668-1633766400-1633779000@kalamazooliteracy.org
SUMMARY:10th Kalamazoo Scrabble Fest
DESCRIPTION:Join us for a day of gaming and fun all to benefit adult literacy in Kalamazoo County! Play in person at the Radisson or online. You can win awesome trophies and prizes. Click here for all the details and link to tickets. Don’t miss it!
URL:https://kalamazooliteracy.org/event/10th-kalamazoo-scrabble-fest/
LOCATION:Radisson Plaza Hotel and Suites\, 100 W. Michigan Avenue\, Kalamazoo\, MI\, 49007\, United States
CATEGORIES:Community Event,Fundraiser
ATTACH;FMTTYPE=image/png:https://kalamazooliteracy.org/wp-content/uploads/2021/08/SFX-logo.png
END:VEVENT
END:VCALENDAR