BEGIN:VCALENDAR
VERSION:2.0
PRODID:-//Kalamazoo Literacy Council - ECPv6.15.20//NONSGML v1.0//EN
CALSCALE:GREGORIAN
METHOD:PUBLISH
X-WR-CALNAME:Kalamazoo Literacy Council
X-ORIGINAL-URL:https://kalamazooliteracy.org
X-WR-CALDESC:Events for Kalamazoo Literacy Council
REFRESH-INTERVAL;VALUE=DURATION:PT1H
X-Robots-Tag:noindex
X-PUBLISHED-TTL:PT1H
BEGIN:VTIMEZONE
TZID:America/Detroit
BEGIN:DAYLIGHT
TZOFFSETFROM:-0500
TZOFFSETTO:-0400
TZNAME:EDT
DTSTART:20210314T070000
END:DAYLIGHT
BEGIN:STANDARD
TZOFFSETFROM:-0400
TZOFFSETTO:-0500
TZNAME:EST
DTSTART:20211107T060000
END:STANDARD
BEGIN:DAYLIGHT
TZOFFSETFROM:-0500
TZOFFSETTO:-0400
TZNAME:EDT
DTSTART:20220313T070000
END:DAYLIGHT
BEGIN:STANDARD
TZOFFSETFROM:-0400
TZOFFSETTO:-0500
TZNAME:EST
DTSTART:20221106T060000
END:STANDARD
BEGIN:DAYLIGHT
TZOFFSETFROM:-0500
TZOFFSETTO:-0400
TZNAME:EDT
DTSTART:20230312T070000
END:DAYLIGHT
BEGIN:STANDARD
TZOFFSETFROM:-0400
TZOFFSETTO:-0500
TZNAME:EST
DTSTART:20231105T060000
END:STANDARD
END:VTIMEZONE
BEGIN:VEVENT
DTSTART;TZID=America/Detroit:20220212T050000
DTEND;TZID=America/Detroit:20220212T080000
DTSTAMP:20260420T024752
CREATED:20220111T224758Z
LAST-MODIFIED:20220204T223514Z
UID:8602-1644642000-1644652800@kalamazooliteracy.org
SUMMARY:Supporting Refugees Through ESL Instruction
DESCRIPTION:Please join us for a special workshop where a panel of our experienced ESL instructors will answer questions and provide teaching strategies for those who want to tutor adult English Language Learners. This is a perfect opportunity for anyone who’s interested in supporting refugees as they adapt to their new environment to learn about serving these motivated learners through basic\, effective language instruction.\n\nAgenda:\nOpening talk: Bita Edraki and John Safapour will provide an overview of Afghan culture and things tutors should keep in mind when working with refugees.\nBuilding Relationships\, Jen Kruger: Jen\, an ESL instructor\, will draw on her experiences working with level 1 learners to share strategies for creating a relationship that allows the learner to be receptive and ready to learn.\nSIOP Lesson Planning\, Dylan Warner: Sheltered Instruction Observation Protocol (SIOP) is a research-based\, instructional model that is highly effective in addressing the academic needs of English learners. Dylan’s session will teach you how to prepare a lesson using SIOP principles.\nPre-literate/Non-literate ESL Resources\, Vicki Konzen: Vicki will share helpful resources for working with these English Language Learners\, including a list of materials available through KLC and free online resources.\nPronunciation\, Ila Baker: Ila\, MA-TESOL\, will walk us through strategies for tutors with no experience to help their learners with pronunciation.\nTo register\, visit https://bit.ly/3r1tUGw
URL:https://kalamazooliteracy.org/event/supporting-refugees-through-esl-instruction/
LOCATION:Kalamazoo Literacy Council\, 420 E Alcott St\, Kalamazoo\, MI\, 49001\, United States
CATEGORIES:ESL,Workshop
ATTACH;FMTTYPE=image/png:https://kalamazooliteracy.org/wp-content/uploads/2022/01/ESL-Workshop-February-2022.png
END:VEVENT
END:VCALENDAR