BEGIN:VCALENDAR
VERSION:2.0
PRODID:-//Kalamazoo Literacy Council - ECPv6.15.20//NONSGML v1.0//EN
CALSCALE:GREGORIAN
METHOD:PUBLISH
X-WR-CALNAME:Kalamazoo Literacy Council
X-ORIGINAL-URL:https://kalamazooliteracy.org
X-WR-CALDESC:Events for Kalamazoo Literacy Council
REFRESH-INTERVAL;VALUE=DURATION:PT1H
X-Robots-Tag:noindex
X-PUBLISHED-TTL:PT1H
BEGIN:VTIMEZONE
TZID:America/Detroit
BEGIN:DAYLIGHT
TZOFFSETFROM:-0500
TZOFFSETTO:-0400
TZNAME:EDT
DTSTART:20210314T070000
END:DAYLIGHT
BEGIN:STANDARD
TZOFFSETFROM:-0400
TZOFFSETTO:-0500
TZNAME:EST
DTSTART:20211107T060000
END:STANDARD
BEGIN:DAYLIGHT
TZOFFSETFROM:-0500
TZOFFSETTO:-0400
TZNAME:EDT
DTSTART:20220313T070000
END:DAYLIGHT
BEGIN:STANDARD
TZOFFSETFROM:-0400
TZOFFSETTO:-0500
TZNAME:EST
DTSTART:20221106T060000
END:STANDARD
BEGIN:DAYLIGHT
TZOFFSETFROM:-0500
TZOFFSETTO:-0400
TZNAME:EDT
DTSTART:20230312T070000
END:DAYLIGHT
BEGIN:STANDARD
TZOFFSETFROM:-0400
TZOFFSETTO:-0500
TZNAME:EST
DTSTART:20231105T060000
END:STANDARD
END:VTIMEZONE
BEGIN:VEVENT
DTSTART;TZID=America/Detroit:20220509T140000
DTEND;TZID=America/Detroit:20220509T153000
DTSTAMP:20260420T145328
CREATED:20211102T195918Z
LAST-MODIFIED:20211102T195918Z
UID:8112-1652104800-1652110200@kalamazooliteracy.org
SUMMARY:Tutor Training
DESCRIPTION:Welcome tutor trainees! This is the training that the KLC requires after orientation and before tutors can be matched with a learner. In these four 90-minute trainings\, we will focus on hybrid learning\, blended learning\, and using the Laubach and Challenger series.
URL:https://kalamazooliteracy.org/event/tutor-training-7/
LOCATION:Online\, MI\, United States
CATEGORIES:Tutor Orientation & Training
ATTACH;FMTTYPE=image/jpeg:https://kalamazooliteracy.org/wp-content/uploads/2021/11/tutoring-adults2.jpg
END:VEVENT
END:VCALENDAR