BEGIN:VCALENDAR
VERSION:2.0
PRODID:-//Kalamazoo Literacy Council - ECPv6.15.20//NONSGML v1.0//EN
CALSCALE:GREGORIAN
METHOD:PUBLISH
X-WR-CALNAME:Kalamazoo Literacy Council
X-ORIGINAL-URL:https://kalamazooliteracy.org
X-WR-CALDESC:Events for Kalamazoo Literacy Council
REFRESH-INTERVAL;VALUE=DURATION:PT1H
X-Robots-Tag:noindex
X-PUBLISHED-TTL:PT1H
BEGIN:VTIMEZONE
TZID:America/Detroit
BEGIN:DAYLIGHT
TZOFFSETFROM:-0500
TZOFFSETTO:-0400
TZNAME:EDT
DTSTART:20210314T070000
END:DAYLIGHT
BEGIN:STANDARD
TZOFFSETFROM:-0400
TZOFFSETTO:-0500
TZNAME:EST
DTSTART:20211107T060000
END:STANDARD
BEGIN:DAYLIGHT
TZOFFSETFROM:-0500
TZOFFSETTO:-0400
TZNAME:EDT
DTSTART:20220313T070000
END:DAYLIGHT
BEGIN:STANDARD
TZOFFSETFROM:-0400
TZOFFSETTO:-0500
TZNAME:EST
DTSTART:20221106T060000
END:STANDARD
BEGIN:DAYLIGHT
TZOFFSETFROM:-0500
TZOFFSETTO:-0400
TZNAME:EDT
DTSTART:20230312T070000
END:DAYLIGHT
BEGIN:STANDARD
TZOFFSETFROM:-0400
TZOFFSETTO:-0500
TZNAME:EST
DTSTART:20231105T060000
END:STANDARD
END:VTIMEZONE
BEGIN:VEVENT
DTSTART;TZID=America/Detroit:20220520T050000
DTEND;TZID=America/Detroit:20220520T100000
DTSTAMP:20260422T082712
CREATED:20220428T182926Z
LAST-MODIFIED:20220428T212909Z
UID:9082-1653022800-1653040800@kalamazooliteracy.org
SUMMARY:Navigation Strategies Workshop
DESCRIPTION:Navigation Strategies Workshop\nMay 20\, 2022\n9:00 a.m. – 2:00 p.m.\nHybrid (Virtual and in-person)  \nPurpose: \n\nTo strengthen the coordination of navigation services and supports that improve retention rates and participation.\nTo share information with navigators\, case managers\, and early learning professionals about community resources that help remove barriers to learning and employment.\nTo provide professional development on strategies and how to utilize navigation services to benefit adult learners and employees.\n\nTo register: Contact Kito Jumanne-Marshall\, (269) 382-0490 ext. 211. \nFor details or questions on Michigan Works Agencies and programs\, please visit https://www.michiganworkssouthwest.org/ \nThis event is an offering of Edison Early Childhood Education Career Pathway University. Click here to see other trainings and workshops.
URL:https://kalamazooliteracy.org/event/navigation-strategies-training/
LOCATION:Online\, MI\, United States
CATEGORIES:Workshop
ATTACH;FMTTYPE=image/png:https://kalamazooliteracy.org/wp-content/uploads/2022/04/Navigation.png
END:VEVENT
END:VCALENDAR