BEGIN:VCALENDAR
VERSION:2.0
PRODID:-//Kalamazoo Literacy Council - ECPv6.15.20//NONSGML v1.0//EN
CALSCALE:GREGORIAN
METHOD:PUBLISH
X-WR-CALNAME:Kalamazoo Literacy Council
X-ORIGINAL-URL:https://kalamazooliteracy.org
X-WR-CALDESC:Events for Kalamazoo Literacy Council
REFRESH-INTERVAL;VALUE=DURATION:PT1H
X-Robots-Tag:noindex
X-PUBLISHED-TTL:PT1H
BEGIN:VTIMEZONE
TZID:America/Detroit
BEGIN:DAYLIGHT
TZOFFSETFROM:-0500
TZOFFSETTO:-0400
TZNAME:EDT
DTSTART:20210314T070000
END:DAYLIGHT
BEGIN:STANDARD
TZOFFSETFROM:-0400
TZOFFSETTO:-0500
TZNAME:EST
DTSTART:20211107T060000
END:STANDARD
BEGIN:DAYLIGHT
TZOFFSETFROM:-0500
TZOFFSETTO:-0400
TZNAME:EDT
DTSTART:20220313T070000
END:DAYLIGHT
BEGIN:STANDARD
TZOFFSETFROM:-0400
TZOFFSETTO:-0500
TZNAME:EST
DTSTART:20221106T060000
END:STANDARD
BEGIN:DAYLIGHT
TZOFFSETFROM:-0500
TZOFFSETTO:-0400
TZNAME:EDT
DTSTART:20230312T070000
END:DAYLIGHT
BEGIN:STANDARD
TZOFFSETFROM:-0400
TZOFFSETTO:-0500
TZNAME:EST
DTSTART:20231105T060000
END:STANDARD
END:VTIMEZONE
BEGIN:VEVENT
DTSTART;TZID=America/Detroit:20220806T080000
DTEND;TZID=America/Detroit:20220806T113000
DTSTAMP:20260420T183015
CREATED:20220630T162612Z
LAST-MODIFIED:20220630T195757Z
UID:9603-1659772800-1659785400@kalamazooliteracy.org
SUMMARY:Kalamazoo Scrabble Fest
DESCRIPTION:It’s time for Kalamazoo Scrabble Fest! Each year\, players come together for a fun-filled day of gaming to support adult literacy. This year’s event is Saturday\, April 6\, 12:00 p.m. – 3:30 p.m. at the downtown Radisson. We are excited to welcome back players in the Just for Fun\, Competitive\, Teams\, and Online divisions. 100% of Scrabble Fest proceeds support the free programs and services of the KLC\, for adults who struggle to read. \nRegistration Fees:\nIn-person tickets are $25 per player ($30 at the door). A 4-person team registration is $200. Fees include hors d’oeuvres\, tshirt\, and gaming materials. Cash bar will be open. Online tickets are $5 for up to 3 submissions or $25 for unlimited submissions. \nPrizes:\nTrophies will be awarded for 1st\, 2nd\, and 3rd place in the Just for Fun\, Competitive\, and Teams divisions. Cage Match players will compete for fun prizes. Online players will be entered into a raffle for a cool prize. \nRegister today and come play with us! Deadline is July 22\, 2022. \nWant to see what it’s all about? Enjoy this highlight reel from our 10th Kalamazoo Scrabble Fest.
URL:https://kalamazooliteracy.org/event/kalamazoo-scrabble-fest-2/
LOCATION:Radisson Plaza Hotel and Suites\, 100 W. Michigan Avenue\, Kalamazoo\, MI\, 49007\, United States
CATEGORIES:Community Event,Fundraiser
ATTACH;FMTTYPE=image/jpeg:https://kalamazooliteracy.org/wp-content/uploads/2022/06/Volunteers-3-scaled.jpg
END:VEVENT
END:VCALENDAR